BEGIN:VCALENDAR
PRODID:-//SINGPromos.com//NONSGML v1.0//EN
VERSION:2.0
CALSCALE:GREGORIAN
METHOD:PUBLISH
X-WR-CALNAME:SINGPromos.com
X-ORIGINAL-URL:https://singpromos.com
X-WR-CALDESC:Events for SINGPromos.com
BEGIN:VEVENT
DTSTART:20130502T000000
DTEND:20130503T235900
DTSTAMP:20260424T020706
CREATED:20130501T182812
LAST-MODIFIED:20130501T023046
UID:65011@https://singpromos.com
SUMMARY:Courts Megastore In-House Tradeshow 2 - 3 May 2013
DESCRIPTION:Courts Megastore will be having an in-house tradeshow with over 1000's of products below cost. For more information, visit [ https://singpromos.com/department-stores/courts-megastore-in-house-tradeshow-2-3-may-2013-65011/ ]. 
LOCATION:
URL:https://singpromos.com/department-stores/courts-megastore-in-house-tradeshow-2-3-may-2013-65011/
END:VEVENT
END:VCALENDAR