BEGIN:VCALENDAR
PRODID:-//SINGPromos.com//NONSGML v1.0//EN
VERSION:2.0
CALSCALE:GREGORIAN
METHOD:PUBLISH
X-WR-CALNAME:SINGPromos.com
X-ORIGINAL-URL:https://singpromos.com
X-WR-CALDESC:Events for SINGPromos.com
BEGIN:VEVENT
DTSTART:20130503T000000
DTEND:20130505T235900
DTSTAMP:20260420T003210
CREATED:20130504T111522
LAST-MODIFIED:20130503T211826
UID:65355@https://singpromos.com
SUMMARY:Muji 10% Off Garment & Household Items Promo 3 - 5 May 2013
DESCRIPTION:Muji is having a 3 days storewide 10% off promotion from 3 May to 5 May 2013 on garment and household items.. For more information, visit [ https://singpromos.com/department-stores/muji-10-off-garment-household-items-promo-3-5-may-2013-65355/ ]. 
LOCATION:
URL:https://singpromos.com/department-stores/muji-10-off-garment-household-items-promo-3-5-may-2013-65355/
END:VEVENT
END:VCALENDAR