BEGIN:VCALENDAR
PRODID:-//SINGPromos.com//NONSGML v1.0//EN
VERSION:2.0
CALSCALE:GREGORIAN
METHOD:PUBLISH
X-WR-CALNAME:SINGPromos.com
X-ORIGINAL-URL:https://singpromos.com
X-WR-CALDESC:Events for SINGPromos.com
BEGIN:VEVENT
DTSTART:20130503T000000
DTEND:20130515T235900
DTSTAMP:20260422T082113
CREATED:20130504T135151
LAST-MODIFIED:20130504T005437
UID:65407@https://singpromos.com
SUMMARY:British Airways Promotion Air Fares 3 - 15 May 2013
DESCRIPTION:Check out British Airway's latest promotional air fares to London and more. For more information, visit [ https://singpromos.com/airlines-flights/british-airways-promotion-air-fares-3-15-may-2013-65407/ ]. 
LOCATION:
URL:https://singpromos.com/airlines-flights/british-airways-promotion-air-fares-3-15-may-2013-65407/
END:VEVENT
END:VCALENDAR