BEGIN:VCALENDAR
PRODID:-//SINGPromos.com//NONSGML v1.0//EN
VERSION:2.0
CALSCALE:GREGORIAN
METHOD:PUBLISH
X-WR-CALNAME:SINGPromos.com
X-ORIGINAL-URL:https://singpromos.com
X-WR-CALDESC:Events for SINGPromos.com
BEGIN:VEVENT
DTSTART:20110423T000000
DTEND:20110429T235900
DTSTAMP:20260420T052604
CREATED:20110423T153133
LAST-MODIFIED:20110423T154935
UID:6556@https://singpromos.com
SUMMARY:Singtel Mobile Phones & Home/Mobile Broadband Offers 23 - 29 Apr 2011
DESCRIPTION:Models featured are Nokia E7, Nokia N8, Nokia C7, Nokia C6-01, LG Optimus 7, HTC Desire S, Sony Ericsson Xperia X10 Mini Pro, Sony Ericsson Xperia PLAY, Samsung Nexus S, Galaxy Tab, Galaxy S, Galaxy Ace and Galaxy Mini. For more information, visit [ https://singpromos.com/telecoms/singtel-mobile-phones-homemobile-broadband-offers-23-29-apr-2011-6556/ ]. 
LOCATION:
URL:https://singpromos.com/telecoms/singtel-mobile-phones-homemobile-broadband-offers-23-29-apr-2011-6556/
END:VEVENT
END:VCALENDAR