BEGIN:VCALENDAR
PRODID:-//SINGPromos.com//NONSGML v1.0//EN
VERSION:2.0
CALSCALE:GREGORIAN
METHOD:PUBLISH
X-WR-CALNAME:SINGPromos.com
X-ORIGINAL-URL:https://singpromos.com
X-WR-CALDESC:Events for SINGPromos.com
BEGIN:VEVENT
DTSTART:20130506T000000
DTEND:20130514T235900
DTSTAMP:20260420T044959
CREATED:20130506T175949
LAST-MODIFIED:20130515T014500
UID:65641@https://singpromos.com
SUMMARY:Element Amara Singapore 42% Off International Buffet Dinner 6 May 2013
DESCRIPTION:Tuck into scrumptious fare such as fresh tiger prawns, smoked salmon and delicious desserts with this deal: $38.90 nett instead of $67 for Daily International Buffet Dinner at Element, Amara Singapore - that's 42% off the usual price! Learn how to the deal before it ends soon. For more information, visit [ https://singpromos.com/dining-restaurants-food/element-amara-singapore-42-off-international-buffet-dinner-6-may-2013-65641/ ]. 
LOCATION:
URL:https://singpromos.com/dining-restaurants-food/element-amara-singapore-42-off-international-buffet-dinner-6-may-2013-65641/
END:VEVENT
END:VCALENDAR