BEGIN:VCALENDAR
PRODID:-//SINGPromos.com//NONSGML v1.0//EN
VERSION:2.0
CALSCALE:GREGORIAN
METHOD:PUBLISH
X-WR-CALNAME:SINGPromos.com
X-ORIGINAL-URL:https://singpromos.com
X-WR-CALDESC:Events for SINGPromos.com
BEGIN:VEVENT
DTSTART:20130510T000000
DTEND:20130525T235900
DTSTAMP:20260420T074442
CREATED:20130510T141536
LAST-MODIFIED:20130510T142932
UID:65957@https://singpromos.com
SUMMARY:Creative Eateries 50% Off $100 Dining Vouchers 10 - 25 May 2013
DESCRIPTION:Purchase Creative Eateries $100 dining vouchers at just $50 only! Find out how to get this promo before it ends soon. For more information, visit [ https://singpromos.com/dining-restaurants-food/creative-eateries-50-off-100-dining-vouchers-10-25-may-2013-65957/ ]. 
LOCATION:
URL:https://singpromos.com/dining-restaurants-food/creative-eateries-50-off-100-dining-vouchers-10-25-may-2013-65957/
END:VEVENT
END:VCALENDAR