BEGIN:VCALENDAR
PRODID:-//SINGPromos.com//NONSGML v1.0//EN
VERSION:2.0
CALSCALE:GREGORIAN
METHOD:PUBLISH
X-WR-CALNAME:SINGPromos.com
X-ORIGINAL-URL:https://singpromos.com
X-WR-CALDESC:Events for SINGPromos.com
BEGIN:VEVENT
DTSTART:20130511T000000
DTEND:20130520T235900
DTSTAMP:20260420T203414
CREATED:20130510T183741
LAST-MODIFIED:20130519T183503
UID:66006@https://singpromos.com
SUMMARY:NDP 2013 Tickets Application Dates & Procedures 11 - 20 May 2013
DESCRIPTION:Singapore Citizens (SG) and Permanent Residents (PR) can apply for tickets to the Preview and National Day Parade (NDP), from 11 to 20 May 2013.. For more information, visit [ https://singpromos.com/happenings/ndp-2013-tickets-application-dates-procedures-11-20-may-2013-66006/ ]. 
LOCATION:
URL:https://singpromos.com/happenings/ndp-2013-tickets-application-dates-procedures-11-20-may-2013-66006/
END:VEVENT
END:VCALENDAR