BEGIN:VCALENDAR
PRODID:-//SINGPromos.com//NONSGML v1.0//EN
VERSION:2.0
CALSCALE:GREGORIAN
METHOD:PUBLISH
X-WR-CALNAME:SINGPromos.com
X-ORIGINAL-URL:https://singpromos.com
X-WR-CALDESC:Events for SINGPromos.com
BEGIN:VEVENT
DTSTART:20130511T000000
DTEND:20130512T235900
DTSTAMP:20260420T200126
CREATED:20130512T105402
LAST-MODIFIED:20130512T025841
UID:66191@https://singpromos.com
SUMMARY:Courts Massive Clear-Out Weekend Offers 11 - 12 May 2013
DESCRIPTION:Courts Massive Clear-Out. Massive Savings! Massive Quantities! Enjoy up to 60% off selected items when you shop at Courts Massive Clear-Out Sale!. For more information, visit [ https://singpromos.com/department-stores/courts-massive-clear-out-weekend-offers-11-12-may-2013-66191/ ]. 
LOCATION:
URL:https://singpromos.com/department-stores/courts-massive-clear-out-weekend-offers-11-12-may-2013-66191/
END:VEVENT
END:VCALENDAR