BEGIN:VCALENDAR
PRODID:-//SINGPromos.com//NONSGML v1.0//EN
VERSION:2.0
CALSCALE:GREGORIAN
METHOD:PUBLISH
X-WR-CALNAME:SINGPromos.com
X-ORIGINAL-URL:https://singpromos.com
X-WR-CALDESC:Events for SINGPromos.com
BEGIN:VEVENT
DTSTART:20130510T000000
DTEND:20130531T235900
DTSTAMP:20260422T210837
CREATED:20130513T115543
LAST-MODIFIED:20130512T220222
UID:66274@https://singpromos.com
SUMMARY:Emirates Promotion Air Fares 10 - 31 May 2013
DESCRIPTION:Take advantage of Emirates exclusive fares from Singapore to selected destinations including the Americas and Europe for travel until 31st July 2013. Find a listing below. For more information, visit [ https://singpromos.com/airlines-flights/emirates-promotion-air-fares-10-31-may-2013-66274/ ]. 
LOCATION:
URL:https://singpromos.com/airlines-flights/emirates-promotion-air-fares-10-31-may-2013-66274/
END:VEVENT
END:VCALENDAR