BEGIN:VCALENDAR
PRODID:-//SINGPromos.com//NONSGML v1.0//EN
VERSION:2.0
CALSCALE:GREGORIAN
METHOD:PUBLISH
X-WR-CALNAME:SINGPromos.com
X-ORIGINAL-URL:https://singpromos.com
X-WR-CALDESC:Events for SINGPromos.com
BEGIN:VEVENT
DTSTART:20130531T000000
DTEND:20130728T235900
DTSTAMP:20260422T202301
CREATED:20130513T141024
LAST-MODIFIED:20130601T212251
UID:66289@https://singpromos.com
SUMMARY:Great Singapore Sale 2013 Sales, Events, Offers, Happenings, Deals 31 May - 28 Jul 2013
DESCRIPTION:From 31 May to 28 July 2013, experience eight weeks of fabulous shopping and enjoy great deals on just about everything, everywhere – from fashion to watches, jewellery, electronics, toys and more, all over Singapore!. For more information, visit [ https://singpromos.com/happenings/great-singapore-sale-2013-sales-events-offers-happenings-deals-31-may-28-jul-2013-66289/ ]. 
LOCATION:
URL:https://singpromos.com/happenings/great-singapore-sale-2013-sales-events-offers-happenings-deals-31-may-28-jul-2013-66289/
END:VEVENT
END:VCALENDAR