BEGIN:VCALENDAR
PRODID:-//SINGPromos.com//NONSGML v1.0//EN
VERSION:2.0
CALSCALE:GREGORIAN
METHOD:PUBLISH
X-WR-CALNAME:SINGPromos.com
X-ORIGINAL-URL:https://singpromos.com
X-WR-CALDESC:Events for SINGPromos.com
BEGIN:VEVENT
DTSTART:20130518T000000
DTEND:20130523T235900
DTSTAMP:20260422T082108
CREATED:20130514T163800
LAST-MODIFIED:20130514T024738
UID:66352@https://singpromos.com
SUMMARY:Isetan Fox Kids Apparel & Infant Apparel Sale Up To 70% Off @ Isetan Scotts 13 May 2013
DESCRIPTION:Isetan Scotts will be having Fox Sale from 18 May to 23 May 2013. Find out more now. For more information, visit [ https://singpromos.com/fashion-accessories/isetan-fox-kids-apparel-infant-apparel-sale-up-to-70-off-isetan-scotts-13-may-2013-66352/ ]. 
LOCATION:
URL:https://singpromos.com/fashion-accessories/isetan-fox-kids-apparel-infant-apparel-sale-up-to-70-off-isetan-scotts-13-may-2013-66352/
END:VEVENT
END:VCALENDAR