BEGIN:VCALENDAR
PRODID:-//SINGPromos.com//NONSGML v1.0//EN
VERSION:2.0
CALSCALE:GREGORIAN
METHOD:PUBLISH
X-WR-CALNAME:SINGPromos.com
X-ORIGINAL-URL:https://singpromos.com
X-WR-CALDESC:Events for SINGPromos.com
BEGIN:VEVENT
DTSTART:20130517T000000
DTEND:20130630T235900
DTSTAMP:20260420T013849
CREATED:20130517T133310
LAST-MODIFIED:20130517T230116
UID:66684@https://singpromos.com
SUMMARY:Royal Sporting House & Stadium 20% Off With $80 Spend Promo 17 May - 30 Jun 2013
DESCRIPTION:Royal Sporting House is having a Great Sports Sale promo. Enjoy up to 20% off total purchases of $80 & above. For more information, visit [ https://singpromos.com/sports/royal-sporting-house-stadium-20-off-with-80-spend-promo-17-may-2013-66684/ ]. 
LOCATION:
URL:https://singpromos.com/sports/royal-sporting-house-stadium-20-off-with-80-spend-promo-17-may-2013-66684/
END:VEVENT
END:VCALENDAR