BEGIN:VCALENDAR
PRODID:-//SINGPromos.com//NONSGML v1.0//EN
VERSION:2.0
CALSCALE:GREGORIAN
METHOD:PUBLISH
X-WR-CALNAME:SINGPromos.com
X-ORIGINAL-URL:https://singpromos.com
X-WR-CALDESC:Events for SINGPromos.com
BEGIN:VEVENT
DTSTART:20130517T000000
DTEND:20130517T235900
DTSTAMP:20260424T020705
CREATED:20130517T151718
LAST-MODIFIED:20130517T151718
UID:66709@https://singpromos.com
SUMMARY:Courts Massive Clear Out One Day Offers 17 May 2013
DESCRIPTION:Courts is having a "Massive Clear-Out" Sale promotion. Check out these Friday only deals below. For more information, visit [ https://singpromos.com/department-stores/courts-massive-clear-out-one-day-offers-17-may-2013-66709/ ]. 
LOCATION:
URL:https://singpromos.com/department-stores/courts-massive-clear-out-one-day-offers-17-may-2013-66709/
END:VEVENT
END:VCALENDAR