BEGIN:VCALENDAR
PRODID:-//SINGPromos.com//NONSGML v1.0//EN
VERSION:2.0
CALSCALE:GREGORIAN
METHOD:PUBLISH
X-WR-CALNAME:SINGPromos.com
X-ORIGINAL-URL:https://singpromos.com
X-WR-CALDESC:Events for SINGPromos.com
BEGIN:VEVENT
DTSTART:20130520T000000
DTEND:20130605T235900
DTSTAMP:20260420T230420
CREATED:20130521T115938
LAST-MODIFIED:20130521T040056
UID:66981@https://singpromos.com
SUMMARY:Lenovo Business Notebooks Offers 20 May - 5 Jun 2013
DESCRIPTION:Power your business with every move with Lenovo Systems. Promotion is valid from 20 May to 5 Jun 2013.. For more information, visit [ https://singpromos.com/computers-pc/lenovo-business-notebooks-offers-20-may-5-jun-2013-66981/ ]. 
LOCATION:
URL:https://singpromos.com/computers-pc/lenovo-business-notebooks-offers-20-may-5-jun-2013-66981/
END:VEVENT
END:VCALENDAR