BEGIN:VCALENDAR
PRODID:-//SINGPromos.com//NONSGML v1.0//EN
VERSION:2.0
CALSCALE:GREGORIAN
METHOD:PUBLISH
X-WR-CALNAME:SINGPromos.com
X-ORIGINAL-URL:https://singpromos.com
X-WR-CALDESC:Events for SINGPromos.com
BEGIN:VEVENT
DTSTART:20130530T000000
DTEND:20130612T235900
DTSTAMP:20260422T082114
CREATED:20130531T090744
LAST-MODIFIED:20130531T061245
UID:68165@https://singpromos.com
SUMMARY:NTUC Fairprice Electronics, Appliances, Personal Care & Philips Offers 30 May - 12 Jun 2013
DESCRIPTION:Here's NTUC Fairprice latest Super Catalogue, Personal Care, Electronics and Wines offers, valid till up to 12 June 2013.. For more information, visit [ https://singpromos.com/department-stores/ntuc-fairprice-electronics-appliances-personal-care-philips-offers-30-may-12-jun-2013-68165/ ]. 
LOCATION:
URL:https://singpromos.com/department-stores/ntuc-fairprice-electronics-appliances-personal-care-philips-offers-30-may-12-jun-2013-68165/
END:VEVENT
END:VCALENDAR