BEGIN:VCALENDAR
PRODID:-//SINGPromos.com//NONSGML v1.0//EN
VERSION:2.0
CALSCALE:GREGORIAN
METHOD:PUBLISH
X-WR-CALNAME:SINGPromos.com
X-ORIGINAL-URL:https://singpromos.com
X-WR-CALDESC:Events for SINGPromos.com
BEGIN:VEVENT
DTSTART:20130531T000000
DTEND:20130630T235900
DTSTAMP:20260422T054721
CREATED:20130601T111559
LAST-MODIFIED:20130601T032114
UID:68353@https://singpromos.com
SUMMARY:S-26 Milk Powder FREE Gift Worth Up To $199 With $300 Spend 31 May - 30 Jun 2013
DESCRIPTION:S-26. Rewarding all the dedicated Daddies. Purchase above $300 worth of products and redeem any of the attractive gifts. . For more information, visit [ https://singpromos.com/babies-mothers/s-26-milk-powder-free-gift-worth-up-to-199-with-300-spend-31-may-30-jun-2013-68353/ ]. 
LOCATION:
URL:https://singpromos.com/babies-mothers/s-26-milk-powder-free-gift-worth-up-to-199-with-300-spend-31-may-30-jun-2013-68353/
END:VEVENT
END:VCALENDAR