BEGIN:VCALENDAR
PRODID:-//SINGPromos.com//NONSGML v1.0//EN
VERSION:2.0
CALSCALE:GREGORIAN
METHOD:PUBLISH
X-WR-CALNAME:SINGPromos.com
X-ORIGINAL-URL:https://singpromos.com
X-WR-CALDESC:Events for SINGPromos.com
BEGIN:VEVENT
DTSTART:20130605T000000
DTEND:20130610T235900
DTSTAMP:20260420T203426
CREATED:20130607T101323
LAST-MODIFIED:20130607T041550
UID:69052@https://singpromos.com
SUMMARY:Singapore Book Fair @ Suntec Convention Centre 5 - 10 Jun 2013
DESCRIPTION:Singapore Book Fair will be happening from 5 June to 10 June 2013 at Suntec Convention Centre, Level 4, Hall 4. For more information, visit [ https://singpromos.com/happenings/singapore-book-fair-suntec-convention-centre-5-10-jun-2013-69052/ ]. 
LOCATION:
URL:https://singpromos.com/happenings/singapore-book-fair-suntec-convention-centre-5-10-jun-2013-69052/
END:VEVENT
END:VCALENDAR