BEGIN:VCALENDAR
PRODID:-//SINGPromos.com//NONSGML v1.0//EN
VERSION:2.0
CALSCALE:GREGORIAN
METHOD:PUBLISH
X-WR-CALNAME:SINGPromos.com
X-ORIGINAL-URL:https://singpromos.com
X-WR-CALDESC:Events for SINGPromos.com
BEGIN:VEVENT
DTSTART:20130608T000000
DTEND:20130609T235900
DTSTAMP:20260422T075746
CREATED:20130609T094432
LAST-MODIFIED:20130609T035519
UID:69240@https://singpromos.com
SUMMARY:Courts Mega Raya Sale Promotion Offers 8 - 9 Jun 2013
DESCRIPTION:Enjoy the biggest offers and the biggest rewards! Plus, find out how you can win exclusive passes to Shila Amzah's Meet & Greet Session. For more information, visit [ https://singpromos.com/department-stores/courts-mega-raya-sale-promotion-offers-8-9-jun-2013-69240/ ]. 
LOCATION:
URL:https://singpromos.com/department-stores/courts-mega-raya-sale-promotion-offers-8-9-jun-2013-69240/
END:VEVENT
END:VCALENDAR