BEGIN:VCALENDAR
PRODID:-//SINGPromos.com//NONSGML v1.0//EN
VERSION:2.0
CALSCALE:GREGORIAN
METHOD:PUBLISH
X-WR-CALNAME:SINGPromos.com
X-ORIGINAL-URL:https://singpromos.com
X-WR-CALDESC:Events for SINGPromos.com
BEGIN:VEVENT
DTSTART:20130608T000000
DTEND:20130609T235900
DTSTAMP:20260422T082232
CREATED:20130609T122428
LAST-MODIFIED:20130609T043121
UID:69278@https://singpromos.com
SUMMARY:Audio House Electronics, TV, Notebooks & Appliances Offers 8 - 9 Jun 2013
DESCRIPTION:Audio House challenges all show prices or your money back. Guaranteed lowest price in town. For more information, visit [ https://singpromos.com/department-stores/audio-house-electronics-tv-notebooks-appliances-offers-8-9-jun-2013-69278/ ]. 
LOCATION:
URL:https://singpromos.com/department-stores/audio-house-electronics-tv-notebooks-appliances-offers-8-9-jun-2013-69278/
END:VEVENT
END:VCALENDAR