BEGIN:VCALENDAR
PRODID:-//SINGPromos.com//NONSGML v1.0//EN
VERSION:2.0
CALSCALE:GREGORIAN
METHOD:PUBLISH
X-WR-CALNAME:SINGPromos.com
X-ORIGINAL-URL:https://singpromos.com
X-WR-CALDESC:Events for SINGPromos.com
BEGIN:VEVENT
DTSTART:20130615T000000
DTEND:20130701T235900
DTSTAMP:20260422T040023
CREATED:20130615T225755
LAST-MODIFIED:20130630T024710
UID:69873@https://singpromos.com
SUMMARY:Audio House Electronics, TV, Notebooks & Appliances Offers 15 Jun - 1 Jul 2013
DESCRIPTION:Audio House is having an Out of This World Warehouse sale, clearing $10 Million worth of stocks from Top Brands including Samsung, Toshiba, LG, Canon, Acer, HP, Asus, Fujifilm, Nikon, Hitachi and many more. For more information, visit [ https://singpromos.com/department-stores/audio-house-electronics-tv-notebooks-appliances-offers-15-24-jun-2013-69873/ ]. 
LOCATION:
URL:https://singpromos.com/department-stores/audio-house-electronics-tv-notebooks-appliances-offers-15-24-jun-2013-69873/
END:VEVENT
END:VCALENDAR