BEGIN:VCALENDAR
PRODID:-//SINGPromos.com//NONSGML v1.0//EN
VERSION:2.0
CALSCALE:GREGORIAN
METHOD:PUBLISH
X-WR-CALNAME:SINGPromos.com
X-ORIGINAL-URL:https://singpromos.com
X-WR-CALDESC:Events for SINGPromos.com
BEGIN:VEVENT
DTSTART:20130617T000000
DTEND:20130620T235900
DTSTAMP:20260422T082138
CREATED:20130617T201114
LAST-MODIFIED:20130617T201114
UID:70086@https://singpromos.com
SUMMARY:Jetstar Asia Air Fares Promotion Offers 17 - 20 Jun 2013
DESCRIPTION:The Great Singapore Sale is finally back with great discounted fares! Now is the perfect time to start booking your travel in 2013 and 2014.. For more information, visit [ https://singpromos.com/airlines-flights/jetstar-asia-air-fares-promotion-offers-17-20-jun-2013-70086/ ]. 
LOCATION:
URL:https://singpromos.com/airlines-flights/jetstar-asia-air-fares-promotion-offers-17-20-jun-2013-70086/
END:VEVENT
END:VCALENDAR