BEGIN:VCALENDAR
PRODID:-//SINGPromos.com//NONSGML v1.0//EN
VERSION:2.0
CALSCALE:GREGORIAN
METHOD:PUBLISH
X-WR-CALNAME:SINGPromos.com
X-ORIGINAL-URL:https://singpromos.com
X-WR-CALDESC:Events for SINGPromos.com
BEGIN:VEVENT
DTSTART:20130620T000000
DTEND:20130626T235900
DTSTAMP:20260420T061852
CREATED:20130621T130333
LAST-MODIFIED:20130621T040710
UID:70338@https://singpromos.com
SUMMARY:Harvey Norman Fridge Special Offers 20 - 26 Jun 2013
DESCRIPTION:Here's some cool choices with hot prices from Harvey Norman. Promotion is valid from 20 June to 26 Jun 2013.. For more information, visit [ https://singpromos.com/home-appliances/harvey-norman-fridge-special-offers-20-26-jun-2013-70338/ ]. 
LOCATION:
URL:https://singpromos.com/home-appliances/harvey-norman-fridge-special-offers-20-26-jun-2013-70338/
END:VEVENT
END:VCALENDAR