BEGIN:VCALENDAR
PRODID:-//SINGPromos.com//NONSGML v1.0//EN
VERSION:2.0
CALSCALE:GREGORIAN
METHOD:PUBLISH
X-WR-CALNAME:SINGPromos.com
X-ORIGINAL-URL:https://singpromos.com
X-WR-CALDESC:Events for SINGPromos.com
BEGIN:VEVENT
DTSTART:20130620T000000
DTEND:20130630T235900
DTSTAMP:20260420T203414
CREATED:20130621T122004
LAST-MODIFIED:20130621T032809
UID:70392@https://singpromos.com
SUMMARY:Times Bookstores Book Sale @ Ang Mo Kio 20 - 30 Jun 2013
DESCRIPTION:Times Bookstores will be having The Book Sale at AMK Warehouse Level 2 from 20 June 2013 (Thursday) to 30 June 2013 (Sunday).. For more information, visit [ https://singpromos.com/books/times-bookstores-book-sale-ang-mo-kio-20-30-jun-2013-70392/ ]. 
LOCATION:AMK Industrial Park 1, 569619
URL:https://singpromos.com/books/times-bookstores-book-sale-ang-mo-kio-20-30-jun-2013-70392/
END:VEVENT
END:VCALENDAR