BEGIN:VCALENDAR
PRODID:-//SINGPromos.com//NONSGML v1.0//EN
VERSION:2.0
CALSCALE:GREGORIAN
METHOD:PUBLISH
X-WR-CALNAME:SINGPromos.com
X-ORIGINAL-URL:https://singpromos.com
X-WR-CALDESC:Events for SINGPromos.com
BEGIN:VEVENT
DTSTART:20130620T000000
DTEND:20130728T235900
DTSTAMP:20260422T183609
CREATED:20130627T104131
LAST-MODIFIED:20130626T194433
UID:70766@https://singpromos.com
SUMMARY:HP Printers & Scanners Promotion Offers 20 Jun - 28 Jul 2013
DESCRIPTION:Experience what your printer can do for you. Promotions are valid from 20 June - 28 July 2013. . For more information, visit [ https://singpromos.com/computers-pc/printers/hp-printers-scanners-promotion-offers-20-jun-28-jul-2013-70766/ ]. 
LOCATION:
URL:https://singpromos.com/computers-pc/printers/hp-printers-scanners-promotion-offers-20-jun-28-jul-2013-70766/
END:VEVENT
END:VCALENDAR