BEGIN:VCALENDAR
PRODID:-//SINGPromos.com//NONSGML v1.0//EN
VERSION:2.0
CALSCALE:GREGORIAN
METHOD:PUBLISH
X-WR-CALNAME:SINGPromos.com
X-ORIGINAL-URL:https://singpromos.com
X-WR-CALDESC:Events for SINGPromos.com
BEGIN:VEVENT
DTSTART:20130627T000000
DTEND:20130630T235900
DTSTAMP:20260422T082115
CREATED:20130628T112928
LAST-MODIFIED:20130628T003822
UID:70829@https://singpromos.com
SUMMARY:The Body Shop 15% Off Promo With 2 Item Purchase 27 - 30 Jun 2013
DESCRIPTION:From now till this Sunday, pamper yourself with refreshing summer essentials and enjoy up to 20% off when you purchase 3 items or more.. For more information, visit [ https://singpromos.com/beauty/the-body-shop-15-off-promo-with-2-item-purchase-27-30-jun-2013-70829/ ]. 
LOCATION:
URL:https://singpromos.com/beauty/the-body-shop-15-off-promo-with-2-item-purchase-27-30-jun-2013-70829/
END:VEVENT
END:VCALENDAR