BEGIN:VCALENDAR
PRODID:-//SINGPromos.com//NONSGML v1.0//EN
VERSION:2.0
CALSCALE:GREGORIAN
METHOD:PUBLISH
X-WR-CALNAME:SINGPromos.com
X-ORIGINAL-URL:https://singpromos.com
X-WR-CALDESC:Events for SINGPromos.com
BEGIN:VEVENT
DTSTART:20130712T000000
DTEND:20130714T235900
DTSTAMP:20260420T035756
CREATED:20130711T115702
LAST-MODIFIED:20130707T230020
UID:71551@https://singpromos.com
SUMMARY:Baby Baby 2013 @ Singapore Expo 12 - 14 Jul 2013
DESCRIPTION:An event for new and expectant mothers, Baby Baby showcases a wide variety of products and services for bargain hunting, as well as offers educational talks by professional doctors and specialists from trusted institutions.. For more information, visit [ https://singpromos.com/happenings/baby-baby-2013-singapore-expo-12-14-jul-2013-71551/ ]. 
LOCATION:
URL:https://singpromos.com/happenings/baby-baby-2013-singapore-expo-12-14-jul-2013-71551/
END:VEVENT
END:VCALENDAR