BEGIN:VCALENDAR
PRODID:-//SINGPromos.com//NONSGML v1.0//EN
VERSION:2.0
CALSCALE:GREGORIAN
METHOD:PUBLISH
X-WR-CALNAME:SINGPromos.com
X-ORIGINAL-URL:https://singpromos.com
X-WR-CALDESC:Events for SINGPromos.com
BEGIN:VEVENT
DTSTART:20130708T000000
DTEND:20130712T235900
DTSTAMP:20260422T082301
CREATED:20130709T115359
LAST-MODIFIED:20130708T230327
UID:71563@https://singpromos.com
SUMMARY:Jetstar Airways Air Fares Promotion Offers 8 - 12 Jul 2013
DESCRIPTION:You know what they say about regrets. So don't miss out on Jetstar Airways amazing sale to many of their awesome Asia destinations.. For more information, visit [ https://singpromos.com/airlines-flights/jetstar-airways-air-fares-promotion-offers-8-12-jul-2013-71563/ ]. 
LOCATION:
URL:https://singpromos.com/airlines-flights/jetstar-airways-air-fares-promotion-offers-8-12-jul-2013-71563/
END:VEVENT
END:VCALENDAR