BEGIN:VCALENDAR
PRODID:-//SINGPromos.com//NONSGML v1.0//EN
VERSION:2.0
CALSCALE:GREGORIAN
METHOD:PUBLISH
X-WR-CALNAME:SINGPromos.com
X-ORIGINAL-URL:https://singpromos.com
X-WR-CALDESC:Events for SINGPromos.com
BEGIN:VEVENT
DTSTART:20130708T000000
DTEND:20130722T235900
DTSTAMP:20260420T013914
CREATED:20130709T130403
LAST-MODIFIED:20130708T230708
UID:71566@https://singpromos.com
SUMMARY:Royal Sporting House Stadium FREE $10 Voucher With $80 Spend @ Takashimaya 8 - 22 Jul 2013
DESCRIPTION:Check out Royal Sporting House's new outlet, Stadium by Royal Sporting House, which opened on 8 July 2013 at Takashimaya Shopping Centre.. For more information, visit [ https://singpromos.com/sports/royal-sporting-house-stadium-free-10-voucher-with-80-spend-takashimaya-8-22-jul-2013-71566/ ]. 
LOCATION:
URL:https://singpromos.com/sports/royal-sporting-house-stadium-free-10-voucher-with-80-spend-takashimaya-8-22-jul-2013-71566/
END:VEVENT
END:VCALENDAR