BEGIN:VCALENDAR
PRODID:-//SINGPromos.com//NONSGML v1.0//EN
VERSION:2.0
CALSCALE:GREGORIAN
METHOD:PUBLISH
X-WR-CALNAME:SINGPromos.com
X-ORIGINAL-URL:https://singpromos.com
X-WR-CALDESC:Events for SINGPromos.com
BEGIN:VEVENT
DTSTART:20130710T000000
DTEND:20130714T235900
DTSTAMP:20260420T230414
CREATED:20130712T205937
LAST-MODIFIED:20130712T123328
UID:71759@https://singpromos.com
SUMMARY:Lenovo 7% GST Absorbed Notebook Offers 10 - 14 Jul 2013
DESCRIPTION:Great Savings for great notebooks, Lenovo absorbs 7% GST for you. For more information, visit [ https://singpromos.com/computers-pc/lenovo-7-gst-absorbed-notebook-offers-10-14-jul-2013-71759/ ]. 
LOCATION:
URL:https://singpromos.com/computers-pc/lenovo-7-gst-absorbed-notebook-offers-10-14-jul-2013-71759/
END:VEVENT
END:VCALENDAR