BEGIN:VCALENDAR
PRODID:-//SINGPromos.com//NONSGML v1.0//EN
VERSION:2.0
CALSCALE:GREGORIAN
METHOD:PUBLISH
X-WR-CALNAME:SINGPromos.com
X-ORIGINAL-URL:https://singpromos.com
X-WR-CALDESC:Events for SINGPromos.com
BEGIN:VEVENT
DTSTART:20130713T000000
DTEND:20130714T235900
DTSTAMP:20260424T011919
CREATED:20130714T080209
LAST-MODIFIED:20130714T020524
UID:71990@https://singpromos.com
SUMMARY:Courts Mega Raya Sale 13 - 14 Jul 2013
DESCRIPTION:Courts is having a Mega Raya Sale from 13 July to 14 July 2013. This week, Courts promotion has upsized!. For more information, visit [ https://singpromos.com/department-stores/courts-mega-raya-sale-13-14-jul-2013-71990/ ]. 
LOCATION:
URL:https://singpromos.com/department-stores/courts-mega-raya-sale-13-14-jul-2013-71990/
END:VEVENT
END:VCALENDAR