BEGIN:VCALENDAR
PRODID:-//SINGPromos.com//NONSGML v1.0//EN
VERSION:2.0
CALSCALE:GREGORIAN
METHOD:PUBLISH
X-WR-CALNAME:SINGPromos.com
X-ORIGINAL-URL:https://singpromos.com
X-WR-CALDESC:Events for SINGPromos.com
BEGIN:VEVENT
DTSTART:20130720T000000
DTEND:20130721T235900
DTSTAMP:20260422T082311
CREATED:20130721T080617
LAST-MODIFIED:20130721T040952
UID:72362@https://singpromos.com
SUMMARY:Courts Mega Raya Sale 20 - 21 Jul 2013
DESCRIPTION:Courts continues their Mega Raya Sale islandwide from 20 July to 21 July 2013 with up to 60% discount.. For more information, visit [ https://singpromos.com/department-stores/courts-mega-raya-sale-20-21-jul-2013-72362/ ]. 
LOCATION:
URL:https://singpromos.com/department-stores/courts-mega-raya-sale-20-21-jul-2013-72362/
END:VEVENT
END:VCALENDAR