BEGIN:VCALENDAR
PRODID:-//SINGPromos.com//NONSGML v1.0//EN
VERSION:2.0
CALSCALE:GREGORIAN
METHOD:PUBLISH
X-WR-CALNAME:SINGPromos.com
X-ORIGINAL-URL:https://singpromos.com
X-WR-CALDESC:Events for SINGPromos.com
BEGIN:VEVENT
DTSTART:20130726T000000
DTEND:20130728T235900
DTSTAMP:20260422T183644
CREATED:20130723T134305
LAST-MODIFIED:20130727T160803
UID:72447@https://singpromos.com
SUMMARY:Great Electronics Expo 2013 @ Singapore Expo 26 - 28 Jul 2013
DESCRIPTION:Great Electronics Expo will be back at Singapore Expo from 26 July to 28 July 2013 featuring 5,000 electronics each day selling below wholesale prices.. For more information, visit [ https://singpromos.com/happenings/great-electronics-expo-2013-singapore-expo-26-28-jul-2013-72447/ ]. 
LOCATION:
URL:https://singpromos.com/happenings/great-electronics-expo-2013-singapore-expo-26-28-jul-2013-72447/
END:VEVENT
END:VCALENDAR