BEGIN:VCALENDAR
PRODID:-//SINGPromos.com//NONSGML v1.0//EN
VERSION:2.0
CALSCALE:GREGORIAN
METHOD:PUBLISH
X-WR-CALNAME:SINGPromos.com
X-ORIGINAL-URL:https://singpromos.com
X-WR-CALDESC:Events for SINGPromos.com
BEGIN:VEVENT
DTSTART:20130725T000000
DTEND:20130727T235900
DTSTAMP:20260420T003209
CREATED:20130725T102354
LAST-MODIFIED:20130725T062715
UID:72560@https://singpromos.com
SUMMARY:Her Velvet Vase Massive Mid Year SALE Part II 25 - 27 Jul 2013
DESCRIPTION:Her Velvet Vase will be having a second round of their Mid Year Sale from 25 July 2013, 11am. For more information, visit [ https://singpromos.com/fashion-accessories/her-velvet-vase-massive-mid-year-sale-part-ii-25-27-jul-2013-72560/ ]. 
LOCATION:
URL:https://singpromos.com/fashion-accessories/her-velvet-vase-massive-mid-year-sale-part-ii-25-27-jul-2013-72560/
END:VEVENT
END:VCALENDAR