BEGIN:VCALENDAR
PRODID:-//SINGPromos.com//NONSGML v1.0//EN
VERSION:2.0
CALSCALE:GREGORIAN
METHOD:PUBLISH
X-WR-CALNAME:SINGPromos.com
X-ORIGINAL-URL:https://singpromos.com
X-WR-CALDESC:Events for SINGPromos.com
BEGIN:VEVENT
DTSTART:20130726T000000
DTEND:20130731T235900
DTSTAMP:20260422T082240
CREATED:20130727T103417
LAST-MODIFIED:20130727T024744
UID:72750@https://singpromos.com
SUMMARY:Qatar Airways Europe Economy & Business Air Fares Promotion Offers 26 - 31 Jul 2013
DESCRIPTION:Fly to enchanting Paris from only 1138 SGD. Take advantage of Qatar Airways July Specials and fly away to your dream European destination.. For more information, visit [ https://singpromos.com/airlines-flights/qatar-airways-europe-economy-business-air-fares-promotion-offers-26-31-jul-2013-72750/ ]. 
LOCATION:
URL:https://singpromos.com/airlines-flights/qatar-airways-europe-economy-business-air-fares-promotion-offers-26-31-jul-2013-72750/
END:VEVENT
END:VCALENDAR