BEGIN:VCALENDAR
PRODID:-//SINGPromos.com//NONSGML v1.0//EN
VERSION:2.0
CALSCALE:GREGORIAN
METHOD:PUBLISH
X-WR-CALNAME:SINGPromos.com
X-ORIGINAL-URL:https://singpromos.com
X-WR-CALDESC:Events for SINGPromos.com
BEGIN:VEVENT
DTSTART:20130728T000000
DTEND:20130811T235900
DTSTAMP:20260424T000131
CREATED:20130728T141434
LAST-MODIFIED:20130728T081812
UID:72895@https://singpromos.com
SUMMARY:Eu Yan Seng FREE $25 Gift Voucher With $150 Spend 28 Jul - 11 Aug 2013
DESCRIPTION:In Celebration of Singapore's 46th birthday, Eu Yan Seng is having a special promotion. For more information, visit [ https://singpromos.com/health/eu-yan-seng-free-25-gift-voucher-with-150-spend-28-jul-11-aug-2013-72895/ ]. 
LOCATION:
URL:https://singpromos.com/health/eu-yan-seng-free-25-gift-voucher-with-150-spend-28-jul-11-aug-2013-72895/
END:VEVENT
END:VCALENDAR