BEGIN:VCALENDAR
PRODID:-//SINGPromos.com//NONSGML v1.0//EN
VERSION:2.0
CALSCALE:GREGORIAN
METHOD:PUBLISH
X-WR-CALNAME:SINGPromos.com
X-ORIGINAL-URL:https://singpromos.com
X-WR-CALDESC:Events for SINGPromos.com
BEGIN:VEVENT
DTSTART:20130808T000000
DTEND:20130811T235900
DTSTAMP:20260420T203425
CREATED:20130808T131910
LAST-MODIFIED:20130808T122258
UID:73743@https://singpromos.com
SUMMARY:Times Bookstores 20% Off Children's Books, Toys & Games @ Centrepoint 8 - 11 Aug 2013
DESCRIPTION:Visit Times Bookstore Centrepoint and check out their new range of Children's books, toys and games on sale!. For more information, visit [ https://singpromos.com/kids/times-bookstores-20-off-childrens-books-toys-games-centrepoint-8-11-aug-2013-73743/ ]. 
LOCATION:
URL:https://singpromos.com/kids/times-bookstores-20-off-childrens-books-toys-games-centrepoint-8-11-aug-2013-73743/
END:VEVENT
END:VCALENDAR