BEGIN:VCALENDAR
PRODID:-//SINGPromos.com//NONSGML v1.0//EN
VERSION:2.0
CALSCALE:GREGORIAN
METHOD:PUBLISH
X-WR-CALNAME:SINGPromos.com
X-ORIGINAL-URL:https://singpromos.com
X-WR-CALDESC:Events for SINGPromos.com
BEGIN:VEVENT
DTSTART:20130808T000000
DTEND:20130809T235900
DTSTAMP:20260422T030325
CREATED:20130809T104606
LAST-MODIFIED:20130809T112036
UID:73806@https://singpromos.com
SUMMARY:Courts Double Holiday Sale 8 - 9 Aug 2013
DESCRIPTION:Double Holiday, Double Celebration, Double Happiness! Check out Courts Double Holiday Sale and will make you even happier!. For more information, visit [ https://singpromos.com/department-stores/courts-double-holiday-sale-8-9-aug-2013-73806/ ]. 
LOCATION:
URL:https://singpromos.com/department-stores/courts-double-holiday-sale-8-9-aug-2013-73806/
END:VEVENT
END:VCALENDAR