BEGIN:VCALENDAR
PRODID:-//SINGPromos.com//NONSGML v1.0//EN
VERSION:2.0
CALSCALE:GREGORIAN
METHOD:PUBLISH
X-WR-CALNAME:SINGPromos.com
X-ORIGINAL-URL:https://singpromos.com
X-WR-CALDESC:Events for SINGPromos.com
BEGIN:VEVENT
DTSTART:20130816T000000
DTEND:20130818T235900
DTSTAMP:20260420T003326
CREATED:20130816T092516
LAST-MODIFIED:20130817T191353
UID:74315@https://singpromos.com
SUMMARY:Courts Megastore Warehouse Sale Offers 16 - 18 Aug 2013
DESCRIPTION:Courts is offering $23.7m worth of stocks priced lower than any trade show, with many below cost for a limited time. For more information, visit [ https://singpromos.com/department-stores/courts-megastore-warehouse-sale-offers-16-18-aug-2013-74315/ ]. 
LOCATION:
URL:https://singpromos.com/department-stores/courts-megastore-warehouse-sale-offers-16-18-aug-2013-74315/
END:VEVENT
END:VCALENDAR