BEGIN:VCALENDAR
PRODID:-//SINGPromos.com//NONSGML v1.0//EN
VERSION:2.0
CALSCALE:GREGORIAN
METHOD:PUBLISH
X-WR-CALNAME:SINGPromos.com
X-ORIGINAL-URL:https://singpromos.com
X-WR-CALDESC:Events for SINGPromos.com
BEGIN:VEVENT
DTSTART:20130820T000000
DTEND:20130919T235900
DTSTAMP:20260422T082149
CREATED:20130820T104622
LAST-MODIFIED:20130820T101540
UID:74584@https://singpromos.com
SUMMARY:Celio* 40% Off Storewide End of Season SALE 20 Aug - 19 Sep 2013
DESCRIPTION:Celio has started their end of season sale from 20 August to 19 September 2013.. For more information, visit [ https://singpromos.com/fashion-accessories/celio-40-off-storewide-end-of-season-sale-20-aug-19-sep-2013-74584/ ]. 
LOCATION:
URL:https://singpromos.com/fashion-accessories/celio-40-off-storewide-end-of-season-sale-20-aug-19-sep-2013-74584/
END:VEVENT
END:VCALENDAR