BEGIN:VCALENDAR
PRODID:-//SINGPromos.com//NONSGML v1.0//EN
VERSION:2.0
CALSCALE:GREGORIAN
METHOD:PUBLISH
X-WR-CALNAME:SINGPromos.com
X-ORIGINAL-URL:https://singpromos.com
X-WR-CALDESC:Events for SINGPromos.com
BEGIN:VEVENT
DTSTART:20130822T000000
DTEND:20130822T235900
DTSTAMP:20260422T082137
CREATED:20130822T101319
LAST-MODIFIED:20130823T082549
UID:74653@https://singpromos.com
SUMMARY:Courts Up To 60% Off Warehouse Prices Sale One Day Offers 22 Aug 2013
DESCRIPTION:Courts is having a SALE clearing at warehouse prices with up to 65% off. Here are some offers valid for 22 August 2013 only.. For more information, visit [ https://singpromos.com/department-stores/courts-up-to-60-off-warehouse-prices-sale-one-day-offers-22-aug-2013-74653/ ]. 
LOCATION:
URL:https://singpromos.com/department-stores/courts-up-to-60-off-warehouse-prices-sale-one-day-offers-22-aug-2013-74653/
END:VEVENT
END:VCALENDAR