BEGIN:VCALENDAR
PRODID:-//SINGPromos.com//NONSGML v1.0//EN
VERSION:2.0
CALSCALE:GREGORIAN
METHOD:PUBLISH
X-WR-CALNAME:SINGPromos.com
X-ORIGINAL-URL:https://singpromos.com
X-WR-CALDESC:Events for SINGPromos.com
BEGIN:VEVENT
DTSTART:20130829T000000
DTEND:20130901T235900
DTSTAMP:20260422T080607
CREATED:20130828T163742
LAST-MODIFIED:20130828T163757
UID:74988@https://singpromos.com
SUMMARY:Sheng Tai Branded Toys Warehouse SALE Up To 80% Off 29 Aug - 1 Sep 2013
DESCRIPTION:Sheng Tai's Branded Toys Warehouse Sale is back again from 29 Aug to 01 Sep 2013 with discounts of up to 80% off at Eunos Warehouse Complex. For more information, visit [ https://singpromos.com/warehouse-sales/sheng-tai-branded-toys-warehouse-sale-up-to-80-off-29-aug-1-sep-2013-74988/ ]. 
LOCATION:1 Kakit Bukit Road 2 #02-05, 417835
URL:https://singpromos.com/warehouse-sales/sheng-tai-branded-toys-warehouse-sale-up-to-80-off-29-aug-1-sep-2013-74988/
END:VEVENT
END:VCALENDAR