BEGIN:VCALENDAR
PRODID:-//SINGPromos.com//NONSGML v1.0//EN
VERSION:2.0
CALSCALE:GREGORIAN
METHOD:PUBLISH
X-WR-CALNAME:SINGPromos.com
X-ORIGINAL-URL:https://singpromos.com
X-WR-CALDESC:Events for SINGPromos.com
BEGIN:VEVENT
DTSTART:20130828T000000
DTEND:20130901T235900
DTSTAMP:20260422T082113
CREATED:20130828T164809
LAST-MODIFIED:20130828T164809
UID:74992@https://singpromos.com
SUMMARY:Toshiba Notebooks & Tablets Pre COMEX 2013 Offers 28 Aug - 1 Sep 2013
DESCRIPTION:Get the COMEX prices for selected Toshiba notebooks and tablets even before the show starts. While stocks last and promotion ends 1 September 2013. For more information, visit [ https://singpromos.com/computers-pc/toshiba-notebooks-tablets-pre-comex-2013-offers-28-aug-1-sep-2013-74992/ ]. 
LOCATION:
URL:https://singpromos.com/computers-pc/toshiba-notebooks-tablets-pre-comex-2013-offers-28-aug-1-sep-2013-74992/
END:VEVENT
END:VCALENDAR