BEGIN:VCALENDAR
PRODID:-//SINGPromos.com//NONSGML v1.0//EN
VERSION:2.0
CALSCALE:GREGORIAN
METHOD:PUBLISH
X-WR-CALNAME:SINGPromos.com
X-ORIGINAL-URL:https://singpromos.com
X-WR-CALDESC:Events for SINGPromos.com
BEGIN:VEVENT
DTSTART:20130830T000000
DTEND:20130930T235900
DTSTAMP:20260422T082115
CREATED:20130831T174617
LAST-MODIFIED:20130911T094000
UID:75178@https://singpromos.com
SUMMARY:Dockers Up To 50% Off Mid Season SALE @ All Outlets 30 Aug 2013
DESCRIPTION:Dockers is having their Mid Season Sale for a limited time at all outlets. For more information, visit [ https://singpromos.com/fashion-accessories/dockers-up-to-50-off-mid-season-sale-all-outlets-30-aug-2013-75178/ ]. 
LOCATION:
URL:https://singpromos.com/fashion-accessories/dockers-up-to-50-off-mid-season-sale-all-outlets-30-aug-2013-75178/
END:VEVENT
END:VCALENDAR