BEGIN:VCALENDAR
PRODID:-//SINGPromos.com//NONSGML v1.0//EN
VERSION:2.0
CALSCALE:GREGORIAN
METHOD:PUBLISH
X-WR-CALNAME:SINGPromos.com
X-ORIGINAL-URL:https://singpromos.com
X-WR-CALDESC:Events for SINGPromos.com
BEGIN:VEVENT
DTSTART:20130831T000000
DTEND:20130906T235900
DTSTAMP:20260420T055007
CREATED:20130831T202136
LAST-MODIFIED:20130831T202228
UID:75215@https://singpromos.com
SUMMARY:Harvey Norman Digital Cameras, Furniture, Notebooks & Appliances Offers 31 Aug - 6 Sep 2013
DESCRIPTION:Harvey Norman is having an Electrifying Fiesta promotion featuring electrifying mega savings till 6 September 2013. For more information, visit [ https://singpromos.com/department-stores/harvey-norman-digital-cameras-furniture-notebooks-appliances-offers-31-aug-6-sep-2013-75215/ ]. 
LOCATION:
URL:https://singpromos.com/department-stores/harvey-norman-digital-cameras-furniture-notebooks-appliances-offers-31-aug-6-sep-2013-75215/
END:VEVENT
END:VCALENDAR