BEGIN:VCALENDAR
PRODID:-//SINGPromos.com//NONSGML v1.0//EN
VERSION:2.0
CALSCALE:GREGORIAN
METHOD:PUBLISH
X-WR-CALNAME:SINGPromos.com
X-ORIGINAL-URL:https://singpromos.com
X-WR-CALDESC:Events for SINGPromos.com
BEGIN:VEVENT
DTSTART:20130914T000000
DTEND:20130915T235900
DTSTAMP:20260422T082111
CREATED:20130910T091619
LAST-MODIFIED:20130909T101844
UID:75679@https://singpromos.com
SUMMARY:Surprisel Branded Handbags Sale Up To 75% Off 14 - 15 Sep 2013
DESCRIPTION:Surprisel will be having a luxury branded handbags sale on 14 Sep at Bukit Panjang Community Club and on 15 Sept at Pasir Ris Elias Community Club. For more information, visit [ https://singpromos.com/handbags/surprisel-branded-handbags-sale-up-to-75-off-14-15-sep-2013-75679/ ]. 
LOCATION:
URL:https://singpromos.com/handbags/surprisel-branded-handbags-sale-up-to-75-off-14-15-sep-2013-75679/
END:VEVENT
END:VCALENDAR