BEGIN:VCALENDAR
PRODID:-//SINGPromos.com//NONSGML v1.0//EN
VERSION:2.0
CALSCALE:GREGORIAN
METHOD:PUBLISH
X-WR-CALNAME:SINGPromos.com
X-ORIGINAL-URL:https://singpromos.com
X-WR-CALDESC:Events for SINGPromos.com
BEGIN:VEVENT
DTSTART:20130913T000000
DTEND:20130915T235900
DTSTAMP:20260420T052603
CREATED:20130911T191640
LAST-MODIFIED:20130911T191640
UID:75801@https://singpromos.com
SUMMARY:Cristofori Warehouse SALE @ Bedok Industrial Park E 13 - 15 Sep 2013
DESCRIPTION:Cristofori will be having a Warehouse SALE at Bedok Industrial Park E from 13 September to 15 September 2013. For more information, visit [ https://singpromos.com/warehouse-sales/cristofori-warehouse-sale-bedok-industrial-park-e-13-15-sep-2013-75801/ ]. 
LOCATION:Blk 3014, Bedok Industrial Park E, #02-2148, 489980
URL:https://singpromos.com/warehouse-sales/cristofori-warehouse-sale-bedok-industrial-park-e-13-15-sep-2013-75801/
END:VEVENT
END:VCALENDAR