BEGIN:VCALENDAR
PRODID:-//SINGPromos.com//NONSGML v1.0//EN
VERSION:2.0
CALSCALE:GREGORIAN
METHOD:PUBLISH
X-WR-CALNAME:SINGPromos.com
X-ORIGINAL-URL:https://singpromos.com
X-WR-CALDESC:Events for SINGPromos.com
BEGIN:VEVENT
DTSTART:20130912T000000
DTEND:20130925T235900
DTSTAMP:20260422T210839
CREATED:20130912T135615
LAST-MODIFIED:20130911T220420
UID:75814@https://singpromos.com
SUMMARY:Emirates Promotion Air Fares Offers 12 - 25 Sep 2013
DESCRIPTION:Explore Australia with special air fares from Emirates. Book today. For more information, visit [ https://singpromos.com/airlines-flights/emirates-promotion-air-fares-offers-12-25-sep-2013-75814/ ]. 
LOCATION:
URL:https://singpromos.com/airlines-flights/emirates-promotion-air-fares-offers-12-25-sep-2013-75814/
END:VEVENT
END:VCALENDAR