BEGIN:VCALENDAR
PRODID:-//SINGPromos.com//NONSGML v1.0//EN
VERSION:2.0
CALSCALE:GREGORIAN
METHOD:PUBLISH
X-WR-CALNAME:SINGPromos.com
X-ORIGINAL-URL:https://singpromos.com
X-WR-CALDESC:Events for SINGPromos.com
BEGIN:VEVENT
DTSTART:20130912T000000
DTEND:20130913T235900
DTSTAMP:20260422T082129
CREATED:20130912T115803
LAST-MODIFIED:20130912T115803
UID:75843@https://singpromos.com
SUMMARY:Courts Tradeshow Overstocked Prices Slashed Two Day Offers 12 - 13 Sep 2013
DESCRIPTION:Prices are seriously S.L.A.S.H.E.D at the Courts Tradeshow Overstock promotion. Check out some of the offers below, valid till 13 September 2013. For more information, visit [ https://singpromos.com/department-stores/courts-tradeshow-overstocked-prices-slashed-two-day-offers-12-13-sep-2013-75843/ ]. 
LOCATION:
URL:https://singpromos.com/department-stores/courts-tradeshow-overstocked-prices-slashed-two-day-offers-12-13-sep-2013-75843/
END:VEVENT
END:VCALENDAR