BEGIN:VCALENDAR
PRODID:-//SINGPromos.com//NONSGML v1.0//EN
VERSION:2.0
CALSCALE:GREGORIAN
METHOD:PUBLISH
X-WR-CALNAME:SINGPromos.com
X-ORIGINAL-URL:https://singpromos.com
X-WR-CALDESC:Events for SINGPromos.com
BEGIN:VEVENT
DTSTART:20130912T000000
DTEND:20131031T235900
DTSTAMP:20260422T082152
CREATED:20130915T172736
LAST-MODIFIED:20130915T113639
UID:76086@https://singpromos.com
SUMMARY:T.M.Lewin Shirts Promo Offers 12 Sep - 31 Oct 2013
DESCRIPTION:Check out T.M.Lewin's Slim fit and Fully fitted shirts in luxurious 100% 2-ply cotton. Enjoy special offers when you buy a minimum of 3pcs. For more information, visit [ https://singpromos.com/fashion-accessories/t-m-lewin-shirts-promo-offers-12-sep-31-oct-2013-76086/ ]. 
LOCATION:
URL:https://singpromos.com/fashion-accessories/t-m-lewin-shirts-promo-offers-12-sep-31-oct-2013-76086/
END:VEVENT
END:VCALENDAR