BEGIN:VCALENDAR
PRODID:-//SINGPromos.com//NONSGML v1.0//EN
VERSION:2.0
CALSCALE:GREGORIAN
METHOD:PUBLISH
X-WR-CALNAME:SINGPromos.com
X-ORIGINAL-URL:https://singpromos.com
X-WR-CALDESC:Events for SINGPromos.com
BEGIN:VEVENT
DTSTART:20130918T000000
DTEND:20131004T235900
DTSTAMP:20260422T082114
CREATED:20130918T140111
LAST-MODIFIED:20130917T170718
UID:76169@https://singpromos.com
SUMMARY:Etihad Airways Australia & New Zealand Promotion Air Fares 18 Sep - 4 Oct 2013
DESCRIPTION:Book now and take off for less with Etihad Airways special Coral Economy Class fares to Australia and New Zealand. For more information, visit [ https://singpromos.com/airlines-flights/etihad-airways-australia-new-zealand-promotion-air-fares-18-sep-4-oct-2013-76169/ ]. 
LOCATION:
URL:https://singpromos.com/airlines-flights/etihad-airways-australia-new-zealand-promotion-air-fares-18-sep-4-oct-2013-76169/
END:VEVENT
END:VCALENDAR